BEGIN:VCALENDAR
VERSION:2.0
PRODID:-//Kentucky ElderLaw - ECPv6.14.1//NONSGML v1.0//EN
CALSCALE:GREGORIAN
METHOD:PUBLISH
X-ORIGINAL-URL:https://www.kyelderlaw.com
X-WR-CALDESC:Events for Kentucky ElderLaw
REFRESH-INTERVAL;VALUE=DURATION:PT1H
X-Robots-Tag:noindex
X-PUBLISHED-TTL:PT1H
BEGIN:VTIMEZONE
TZID:America/Kentucky/Louisville
BEGIN:DAYLIGHT
TZOFFSETFROM:-0500
TZOFFSETTO:-0400
TZNAME:EDT
DTSTART:20240310T070000
END:DAYLIGHT
BEGIN:STANDARD
TZOFFSETFROM:-0400
TZOFFSETTO:-0500
TZNAME:EST
DTSTART:20241103T060000
END:STANDARD
END:VTIMEZONE
BEGIN:VEVENT
DTSTART;TZID=America/Kentucky/Louisville:20240118T180000
DTEND;TZID=America/Kentucky/Louisville:20240118T193000
DTSTAMP:20260421T104449
CREATED:20231205T193047Z
LAST-MODIFIED:20240117T175927Z
UID:53500-1705600800-1705606200@www.kyelderlaw.com
SUMMARY:How To Prepare For The High Cost Of Getting Older
DESCRIPTION:Financial Strategies for Seniors: How To Prepare For The High Cost Of Getting Older\nWe invite you to join us to learn the best way to protect your assets while planning for long-term care. This seminar will last 90 minutes and is completely free. During the session\, we will provide a range of topics including long-term care planning\, asset protection\, Medicaid\, probate\, and VA benefits\, and how Kentucky ElderLaw can help. \n 
URL:https://www.kyelderlaw.com/event/how-to-prepare-for-the-high-cost-of-getting-older-4/
LOCATION:Louisville Alzheimer’s Association\, 6100 Dutchmans Ln #401\, Louisville\, KY\, 40205\, United States
CATEGORIES:Jan 2024
ATTACH;FMTTYPE=image/png:https://www.kyelderlaw.com/wp-content/uploads/2023/12/Picture6.png
END:VEVENT
BEGIN:VEVENT
DTSTART;TZID=America/Kentucky/Louisville:20240118T120000
DTEND;TZID=America/Kentucky/Louisville:20240118T130000
DTSTAMP:20260421T104449
CREATED:20231205T193108Z
LAST-MODIFIED:20240117T180029Z
UID:53481-1705579200-1705582800@www.kyelderlaw.com
SUMMARY:How Do I Save My House From Long Term Care Costs?
DESCRIPTION:Empower Yourself: Discover Effective Strategies to Protect Your Home from Long-Term Care Expenses!\nJoin our informative seminar where attorneys will guide you through practical methods and legal avenues to safeguard your house while navigating the complexities of long-term care costs. Learn about how to prepare for the future from the team at Kentucky ElderLaw during this 1 hour seminar. \n 
URL:https://www.kyelderlaw.com/event/how-do-i-save-my-house-from-long-term-care-costs/
LOCATION:Louisville Alzheimer’s Association\, 6100 Dutchmans Ln #401\, Louisville\, KY\, 40205\, United States
CATEGORIES:Jan 2024
ATTACH;FMTTYPE=image/jpeg:https://www.kyelderlaw.com/wp-content/uploads/2023/12/pexels-marcus-aurelius-6787953-scaled.jpg
END:VEVENT
END:VCALENDAR